BEGIN:VCALENDAR
VERSION:2.0
PRODID:-//Sainte-Hélène-de-Kamouraska - ECPv6.15.20//NONSGML v1.0//EN
CALSCALE:GREGORIAN
METHOD:PUBLISH
X-WR-CALNAME:Sainte-Hélène-de-Kamouraska
X-ORIGINAL-URL:https://sainte-helene.net
X-WR-CALDESC:Évènements pour Sainte-Hélène-de-Kamouraska
REFRESH-INTERVAL;VALUE=DURATION:PT1H
X-Robots-Tag:noindex
X-PUBLISHED-TTL:PT1H
BEGIN:VTIMEZONE
TZID:America/Halifax
BEGIN:DAYLIGHT
TZOFFSETFROM:-0400
TZOFFSETTO:-0300
TZNAME:ADT
DTSTART:20180311T060000
END:DAYLIGHT
BEGIN:STANDARD
TZOFFSETFROM:-0300
TZOFFSETTO:-0400
TZNAME:AST
DTSTART:20181104T050000
END:STANDARD
BEGIN:DAYLIGHT
TZOFFSETFROM:-0400
TZOFFSETTO:-0300
TZNAME:ADT
DTSTART:20190310T060000
END:DAYLIGHT
BEGIN:STANDARD
TZOFFSETFROM:-0300
TZOFFSETTO:-0400
TZNAME:AST
DTSTART:20191103T050000
END:STANDARD
BEGIN:DAYLIGHT
TZOFFSETFROM:-0400
TZOFFSETTO:-0300
TZNAME:ADT
DTSTART:20200308T060000
END:DAYLIGHT
BEGIN:STANDARD
TZOFFSETFROM:-0300
TZOFFSETTO:-0400
TZNAME:AST
DTSTART:20201101T050000
END:STANDARD
END:VTIMEZONE
BEGIN:VEVENT
DTSTART;TZID=America/Halifax:20190611T200000
DTEND;TZID=America/Halifax:20190611T210000
DTSTAMP:20260422T005639
CREATED:20190613T142523Z
LAST-MODIFIED:20190613T143240Z
UID:1475-1560283200-1560286800@sainte-helene.net
SUMMARY:Séance ordinaire du conseil municipal
DESCRIPTION:
URL:https://sainte-helene.net/evenement/seance-ordinaire-du-conseil-municipal-2/
LOCATION:Salle communautaire de Sainte-Hélène\, 531\, rue de l'Église Sud\, Sainte-Helene-de-Kamouraska\, Québec\, G0L 3J0\, Canada
CATEGORIES:Affaires municipales
ORGANIZER;CN="Conseil municipal":MAILTO:luc@lcproduction.com
END:VEVENT
BEGIN:VEVENT
DTSTART;TZID=America/Halifax:20190623T140000
DTEND;TZID=America/Halifax:20190623T230000
DTSTAMP:20260422T005639
CREATED:20190613T145052Z
LAST-MODIFIED:20190613T145052Z
UID:1483-1561298400-1561330800@sainte-helene.net
SUMMARY:Fête nationale
DESCRIPTION:Pub St-Jean 2019
URL:https://sainte-helene.net/evenement/fete-nationale/
LOCATION:Parc Adélard-Lapointe\, 6003\, rue Adélard-Lapointe\, Sainte-Hélène-de-Kamouraska\, Québec\, G0L 3J0\, Canada
CATEGORIES:Loisirs et vie communautaire
END:VEVENT
BEGIN:VEVENT
DTSTART;VALUE=DATE:20190625
DTEND;VALUE=DATE:20190626
DTSTAMP:20260422T005639
CREATED:20190613T145302Z
LAST-MODIFIED:20190613T145349Z
UID:1488-1561420800-1561507199@sainte-helene.net
SUMMARY:Début du camp de jour
DESCRIPTION:Début du camp de jour municipal pour les enfants de 5 à 12 ans. Plein d’activités\, des sorties extérieures et une équipe d’animatrice chevronnées assureront un été rempli de plaisir!
URL:https://sainte-helene.net/evenement/debut-du-camp-de-jour/
LOCATION:Parc Adélard-Lapointe\, 6003\, rue Adélard-Lapointe\, Sainte-Hélène-de-Kamouraska\, Québec\, G0L 3J0\, Canada
CATEGORIES:Loisirs et vie communautaire
ORGANIZER;CN="Agent de d%C3%A9veloppement et de loisirs":MAILTO:developpement@sainte-helene.net
END:VEVENT
END:VCALENDAR