BEGIN:VCALENDAR
VERSION:2.0
PRODID:-//Sainte-Hélène-de-Kamouraska - ECPv6.15.20//NONSGML v1.0//EN
CALSCALE:GREGORIAN
METHOD:PUBLISH
X-WR-CALNAME:Sainte-Hélène-de-Kamouraska
X-ORIGINAL-URL:https://sainte-helene.net
X-WR-CALDESC:Évènements pour Sainte-Hélène-de-Kamouraska
REFRESH-INTERVAL;VALUE=DURATION:PT1H
X-Robots-Tag:noindex
X-PUBLISHED-TTL:PT1H
BEGIN:VTIMEZONE
TZID:America/New_York
BEGIN:DAYLIGHT
TZOFFSETFROM:-0500
TZOFFSETTO:-0400
TZNAME:EDT
DTSTART:20180311T070000
END:DAYLIGHT
BEGIN:STANDARD
TZOFFSETFROM:-0400
TZOFFSETTO:-0500
TZNAME:EST
DTSTART:20181104T060000
END:STANDARD
BEGIN:DAYLIGHT
TZOFFSETFROM:-0500
TZOFFSETTO:-0400
TZNAME:EDT
DTSTART:20190310T070000
END:DAYLIGHT
BEGIN:STANDARD
TZOFFSETFROM:-0400
TZOFFSETTO:-0500
TZNAME:EST
DTSTART:20191103T060000
END:STANDARD
BEGIN:DAYLIGHT
TZOFFSETFROM:-0500
TZOFFSETTO:-0400
TZNAME:EDT
DTSTART:20200308T070000
END:DAYLIGHT
BEGIN:STANDARD
TZOFFSETFROM:-0400
TZOFFSETTO:-0500
TZNAME:EST
DTSTART:20201101T060000
END:STANDARD
END:VTIMEZONE
BEGIN:VEVENT
DTSTART;TZID=America/New_York:20190514T200000
DTEND;TZID=America/New_York:20190514T210000
DTSTAMP:20260422T022106
CREATED:20190502T130228Z
LAST-MODIFIED:20190502T130228Z
UID:1376-1557864000-1557867600@sainte-helene.net
SUMMARY:Séance ordinaire du conseil municipal
DESCRIPTION:
URL:https://sainte-helene.net/evenement/seance-ordinaire-du-conseil-municipal/
LOCATION:Salle communautaire de Sainte-Hélène\, 531\, rue de l'Église Sud\, Sainte-Helene-de-Kamouraska\, Québec\, G0L 3J0\, Canada
CATEGORIES:Affaires municipales
ORGANIZER;CN="Conseil municipal":MAILTO:luc@lcproduction.com
END:VEVENT
BEGIN:VEVENT
DTSTART;TZID=America/New_York:20190515T190000
DTEND;TZID=America/New_York:20190515T200000
DTSTAMP:20260422T022106
CREATED:20190502T013249Z
LAST-MODIFIED:20190502T130313Z
UID:1363-1557946800-1557950400@sainte-helene.net
SUMMARY:Rencontre de parents pour le camp de jour 2019
DESCRIPTION:Cette rencontre apportera diverses informations et spécifications sur le camp de jour comme le tarif\, l’horaire et les activités. Le fonctionnement vous sera présenté ainsi que les nouveautés. Ce sera également le moment où vous pourrez nous transmettre vos questions et commentaires. Il y aura aussi sur place des formulaires d’inscription. Si vous êtes dans l’impossibilité de venir à cette rencontre\, le formulaire sera disponible au bureau municipal aux heures d’ouverture.
URL:https://sainte-helene.net/evenement/rencontre-de-parents-pour-le-camp-de-jour-2019/
LOCATION:Salle communautaire de Sainte-Hélène\, 531\, rue de l'Église Sud\, Sainte-Helene-de-Kamouraska\, Québec\, G0L 3J0\, Canada
CATEGORIES:Loisirs et vie communautaire
ORGANIZER;CN="Agent de d%C3%A9veloppement et de loisirs":MAILTO:developpement@sainte-helene.net
END:VEVENT
BEGIN:VEVENT
DTSTART;TZID=America/New_York:20190517T190000
DTEND;TZID=America/New_York:20190517T200000
DTSTAMP:20260422T022106
CREATED:20190502T130151Z
LAST-MODIFIED:20190502T130151Z
UID:1379-1558119600-1558123200@sainte-helene.net
SUMMARY:Distribution gratuite de plants d'arbres
DESCRIPTION:Comme chaque année\, la municipalité distribuera gratuitement des arbres à ses citoyens. Différentes essences seront disponibles\, mais nous ne pouvons garantir les quantités. Premier arrivé\, premier servi!
URL:https://sainte-helene.net/evenement/distribution-gratuite-de-plants-darbres/
LOCATION:Garage municipal\, 511\, rue de l'Église Nord\, Sainte-Hélène-de-Kamouraska\, Québec\, G0L3J0\, Canada
CATEGORIES:Loisirs et vie communautaire
ORGANIZER;CN="Agent de d%C3%A9veloppement et de loisirs":MAILTO:developpement@sainte-helene.net
END:VEVENT
BEGIN:VEVENT
DTSTART;TZID=America/New_York:20190524T170000
DTEND;TZID=America/New_York:20190524T190000
DTSTAMP:20260422T022106
CREATED:20190502T125832Z
LAST-MODIFIED:20190502T125832Z
UID:1375-1558717200-1558724400@sainte-helene.net
SUMMARY:Lancement de la politique familiale et des aînés et du plan de développement 2019-2023
DESCRIPTION:La Politique familiale et des aînés ainsi que le plan de développement 2019-2023 vous seront dévoilés lors d’un 5@7 festif. De plus\, nous présenterons le nouveau site internet de la municipalité. Bouchées et breuvages vous seront servis. Toute la population est invitée! Réservez avant le 16 mai en écrivant à developpement@sainte-helene.net.
URL:https://sainte-helene.net/evenement/lancement-de-la-politique-familiale-et-des-aines-et-du-plan-de-developpement-2019-2023/
LOCATION:Centre des loisirs\, 529 A De L`Eglise N\, Sainte-Hélène-de-Kamouraska\, Québec\, G0L 3J0\, Canada
CATEGORIES:Affaires municipales
ORGANIZER;CN="Agent de d%C3%A9veloppement et de loisirs":MAILTO:developpement@sainte-helene.net
END:VEVENT
END:VCALENDAR