BEGIN:VCALENDAR
VERSION:2.0
PRODID:-//Sainte-Hélène-de-Kamouraska - ECPv6.15.20//NONSGML v1.0//EN
CALSCALE:GREGORIAN
METHOD:PUBLISH
X-ORIGINAL-URL:https://sainte-helene.net
X-WR-CALDESC:Évènements pour Sainte-Hélène-de-Kamouraska
REFRESH-INTERVAL;VALUE=DURATION:PT1H
X-Robots-Tag:noindex
X-PUBLISHED-TTL:PT1H
BEGIN:VTIMEZONE
TZID:America/Halifax
BEGIN:DAYLIGHT
TZOFFSETFROM:-0400
TZOFFSETTO:-0300
TZNAME:ADT
DTSTART:20190310T060000
END:DAYLIGHT
BEGIN:STANDARD
TZOFFSETFROM:-0300
TZOFFSETTO:-0400
TZNAME:AST
DTSTART:20191103T050000
END:STANDARD
BEGIN:DAYLIGHT
TZOFFSETFROM:-0400
TZOFFSETTO:-0300
TZNAME:ADT
DTSTART:20200308T060000
END:DAYLIGHT
BEGIN:STANDARD
TZOFFSETFROM:-0300
TZOFFSETTO:-0400
TZNAME:AST
DTSTART:20201101T050000
END:STANDARD
BEGIN:DAYLIGHT
TZOFFSETFROM:-0400
TZOFFSETTO:-0300
TZNAME:ADT
DTSTART:20210314T060000
END:DAYLIGHT
BEGIN:STANDARD
TZOFFSETFROM:-0300
TZOFFSETTO:-0400
TZNAME:AST
DTSTART:20211107T050000
END:STANDARD
END:VTIMEZONE
BEGIN:VEVENT
DTSTART;TZID=America/Halifax:20200807T184500
DTEND;TZID=America/Halifax:20200807T220000
DTSTAMP:20260421T074632
CREATED:20200710T133638Z
LAST-MODIFIED:20200710T133639Z
UID:2351-1596825900-1596837600@sainte-helene.net
SUMMARY:Ciné-Kamou à Sainte-Hélène!
DESCRIPTION:Soirée ciné-parc à Sainte-Hélène-de-Kamouraska! 🎬 \nProgramme de la soirée :\nOuverture du site : 18h45\nPrestation de Batucada Brésilienne par le groupe Mississipi Sound System : 19h30 🥁🇧🇷\nProjection de Pachamama : 20h 🎥 \nLieu : Stationnement en face de l’église et derrière la salle municipale\, 531 rue de l’Église sud. ⛪ \nEntrée des véhicules par la rue de la caserne d’incendie. 🚒 \nApportez vos breuvages et grignotines! 🍿\nEntrée gratuite!\nSi la projection est annulée\, la date de remise sera transmise sur la page de l’événement. 🌧️ \nPlaces limitées\, aucune réservation possible. 🎟️ \nVeuillez prendre connaissance des règlements\, publiés sur la page de l’événement. 📋 \nNous aurons besoin de bénévoles\, si cela vous intéresse ou si vous avez des questions : ☎️ \nCédric Lauzon – 418 492-6830 poste 23\ndeveloppement@sainte-helene.net
URL:https://sainte-helene.net/evenement/cine-kamou-a-sainte-helene/
LOCATION:Salle communautaire de Sainte-Hélène\, 531\, rue de l'Église Sud\, Sainte-Helene-de-Kamouraska\, Québec\, G0L 3J0\, Canada
ATTACH;FMTTYPE=image/png:https://sainte-helene.net/wp-content/uploads/2020/07/Sans-titre-4.png
ORGANIZER;CN="Agent de d%C3%A9veloppement et de loisirs":MAILTO:developpement@sainte-helene.net
END:VEVENT
END:VCALENDAR