BEGIN:VCALENDAR
VERSION:2.0
PRODID:-//Sainte-Hélène-de-Kamouraska - ECPv6.15.20//NONSGML v1.0//EN
CALSCALE:GREGORIAN
METHOD:PUBLISH
X-ORIGINAL-URL:https://sainte-helene.net
X-WR-CALDESC:Évènements pour Sainte-Hélène-de-Kamouraska
REFRESH-INTERVAL;VALUE=DURATION:PT1H
X-Robots-Tag:noindex
X-PUBLISHED-TTL:PT1H
BEGIN:VTIMEZONE
TZID:America/Halifax
BEGIN:DAYLIGHT
TZOFFSETFROM:-0400
TZOFFSETTO:-0300
TZNAME:ADT
DTSTART:20190310T060000
END:DAYLIGHT
BEGIN:STANDARD
TZOFFSETFROM:-0300
TZOFFSETTO:-0400
TZNAME:AST
DTSTART:20191103T050000
END:STANDARD
BEGIN:DAYLIGHT
TZOFFSETFROM:-0400
TZOFFSETTO:-0300
TZNAME:ADT
DTSTART:20200308T060000
END:DAYLIGHT
BEGIN:STANDARD
TZOFFSETFROM:-0300
TZOFFSETTO:-0400
TZNAME:AST
DTSTART:20201101T050000
END:STANDARD
BEGIN:DAYLIGHT
TZOFFSETFROM:-0400
TZOFFSETTO:-0300
TZNAME:ADT
DTSTART:20210314T060000
END:DAYLIGHT
BEGIN:STANDARD
TZOFFSETFROM:-0300
TZOFFSETTO:-0400
TZNAME:AST
DTSTART:20211107T050000
END:STANDARD
END:VTIMEZONE
BEGIN:VEVENT
DTSTART;TZID=America/Halifax:20200228T193000
DTEND;TZID=America/Halifax:20200228T213000
DTSTAMP:20260421T152830
CREATED:20200211T155414Z
LAST-MODIFIED:20200211T155415Z
UID:2030-1582918200-1582925400@sainte-helene.net
SUMMARY:Les vendredis cinéma québécois
DESCRIPTION:Prochaine projection : Le documentaire La ferme et son état du réalisateur Marc Séguin. \nSynopsis : La ferme et son État est un portrait actuel des forces vives et des aberrations en agriculture au Québec. Nous avons suivi\, pendant dix-huit mois\, des jeunes agriculteurs (femmes et hommes) éduqués qui rêvent de faire une agriculture responsable\, innovatrice et écologique\, dans un système où ils ont peine à exister\, alors que la réalité change sous nos yeux. Le film revendique cette nouvelle identité et une politique agricole qui tiendra compte de la réalité.
URL:https://sainte-helene.net/evenement/les-vendredis-cinema-quebecois-2/
LOCATION:Salle communautaire de Sainte-Hélène\, 531\, rue de l'Église Sud\, Sainte-Helene-de-Kamouraska\, Québec\, G0L 3J0\, Canada
ATTACH;FMTTYPE=image/jpeg:https://sainte-helene.net/wp-content/uploads/2020/02/Vendredis-cinéma-québécois-1.jpg
ORGANIZER;CN="Agent de d%C3%A9veloppement et de loisirs":MAILTO:developpement@sainte-helene.net
END:VEVENT
END:VCALENDAR