BEGIN:VCALENDAR
VERSION:2.0
PRODID:-//Sainte-Hélène-de-Kamouraska - ECPv6.15.20//NONSGML v1.0//EN
CALSCALE:GREGORIAN
METHOD:PUBLISH
X-ORIGINAL-URL:https://sainte-helene.net
X-WR-CALDESC:Évènements pour Sainte-Hélène-de-Kamouraska
REFRESH-INTERVAL;VALUE=DURATION:PT1H
X-Robots-Tag:noindex
X-PUBLISHED-TTL:PT1H
BEGIN:VTIMEZONE
TZID:America/Halifax
BEGIN:DAYLIGHT
TZOFFSETFROM:-0400
TZOFFSETTO:-0300
TZNAME:ADT
DTSTART:20190310T060000
END:DAYLIGHT
BEGIN:STANDARD
TZOFFSETFROM:-0300
TZOFFSETTO:-0400
TZNAME:AST
DTSTART:20191103T050000
END:STANDARD
BEGIN:DAYLIGHT
TZOFFSETFROM:-0400
TZOFFSETTO:-0300
TZNAME:ADT
DTSTART:20200308T060000
END:DAYLIGHT
BEGIN:STANDARD
TZOFFSETFROM:-0300
TZOFFSETTO:-0400
TZNAME:AST
DTSTART:20201101T050000
END:STANDARD
BEGIN:DAYLIGHT
TZOFFSETFROM:-0400
TZOFFSETTO:-0300
TZNAME:ADT
DTSTART:20210314T060000
END:DAYLIGHT
BEGIN:STANDARD
TZOFFSETFROM:-0300
TZOFFSETTO:-0400
TZNAME:AST
DTSTART:20211107T050000
END:STANDARD
END:VTIMEZONE
BEGIN:VEVENT
DTSTART;TZID=America/Halifax:20200117T190000
DTEND;TZID=America/Halifax:20200117T210000
DTSTAMP:20260421T164907
CREATED:20200106T145702Z
LAST-MODIFIED:20200108T211221Z
UID:1813-1579287600-1579294800@sainte-helene.net
SUMMARY:Hockey : Policiers vs Sainte-Hélène
DESCRIPTION:Policiers vs Sainte-Hélène\n 
URL:https://sainte-helene.net/evenement/hockey-policiers-vs-sainte-helene/
LOCATION:Parc Adélard-Lapointe\, 6003\, rue Adélard-Lapointe\, Sainte-Hélène-de-Kamouraska\, Québec\, G0L 3J0\, Canada
ATTACH;FMTTYPE=image/jpeg:https://sainte-helene.net/wp-content/uploads/2020/01/Policiers-vs-Sainte-Hélène-1.jpg
ORGANIZER;CN="Agent de d%C3%A9veloppement et de loisirs":MAILTO:developpement@sainte-helene.net
END:VEVENT
END:VCALENDAR