BEGIN:VCALENDAR
VERSION:2.0
PRODID:-//Sainte-Hélène-de-Kamouraska - ECPv6.15.20//NONSGML v1.0//EN
CALSCALE:GREGORIAN
METHOD:PUBLISH
X-WR-CALNAME:Sainte-Hélène-de-Kamouraska
X-ORIGINAL-URL:https://sainte-helene.net
X-WR-CALDESC:Évènements pour Sainte-Hélène-de-Kamouraska
REFRESH-INTERVAL;VALUE=DURATION:PT1H
X-Robots-Tag:noindex
X-PUBLISHED-TTL:PT1H
BEGIN:VTIMEZONE
TZID:America/Halifax
BEGIN:DAYLIGHT
TZOFFSETFROM:-0400
TZOFFSETTO:-0300
TZNAME:ADT
DTSTART:20180311T060000
END:DAYLIGHT
BEGIN:STANDARD
TZOFFSETFROM:-0300
TZOFFSETTO:-0400
TZNAME:AST
DTSTART:20181104T050000
END:STANDARD
BEGIN:DAYLIGHT
TZOFFSETFROM:-0400
TZOFFSETTO:-0300
TZNAME:ADT
DTSTART:20190310T060000
END:DAYLIGHT
BEGIN:STANDARD
TZOFFSETFROM:-0300
TZOFFSETTO:-0400
TZNAME:AST
DTSTART:20191103T050000
END:STANDARD
BEGIN:DAYLIGHT
TZOFFSETFROM:-0400
TZOFFSETTO:-0300
TZNAME:ADT
DTSTART:20200308T060000
END:DAYLIGHT
BEGIN:STANDARD
TZOFFSETFROM:-0300
TZOFFSETTO:-0400
TZNAME:AST
DTSTART:20201101T050000
END:STANDARD
END:VTIMEZONE
BEGIN:VEVENT
DTSTART;TZID=America/Halifax:20191031T170000
DTEND;TZID=America/Halifax:20191031T190000
DTSTAMP:20260421T192539
CREATED:20190919T172918Z
LAST-MODIFIED:20190919T172918Z
UID:1639-1572541200-1572548400@sainte-helene.net
SUMMARY:Halloween à Sainte-Hélène-de-Kamouraska
DESCRIPTION:Déplacez vous en toute sécurité (pompiers et autres camions seront présents pour ralentir la circulation) et recevez des bonbons pour les enfants\, de 17 h à 19 h. À vos costumes!
URL:https://sainte-helene.net/evenement/halloween-a-sainte-helene-de-kamouraska/
LOCATION:Québec
CATEGORIES:Loisirs et vie communautaire
END:VEVENT
END:VCALENDAR